BEGIN:VCALENDAR
VERSION:2.0
PRODID:-//Bilkent Üniversitesi Kütüphanesi - ECPv6.15.20//NONSGML v1.0//EN
CALSCALE:GREGORIAN
METHOD:PUBLISH
X-ORIGINAL-URL:https://library.bilkent.edu.tr/tr
X-WR-CALDESC:Bilkent Üniversitesi Kütüphanesi için etkinlikler
REFRESH-INTERVAL;VALUE=DURATION:PT1H
X-Robots-Tag:noindex
X-PUBLISHED-TTL:PT1H
BEGIN:VTIMEZONE
TZID:Europe/Istanbul
BEGIN:DAYLIGHT
TZOFFSETFROM:+0200
TZOFFSETTO:+0300
TZNAME:EEST
DTSTART:20160327T010000
END:DAYLIGHT
BEGIN:STANDARD
TZOFFSETFROM:+0300
TZOFFSETTO:+0300
TZNAME:+03
DTSTART:20160906T210000
END:STANDARD
END:VTIMEZONE
BEGIN:VEVENT
DTSTART;TZID=Europe/Istanbul:20171214T103000
DTEND;TZID=Europe/Istanbul:20181231T180000
DTSTAMP:20260421T173500
CREATED:20221018T061225Z
LAST-MODIFIED:20240416T122727Z
UID:19648-1513247400-1546279200@library.bilkent.edu.tr
SUMMARY:Resim Sergisi "KAR"
DESCRIPTION:2018 tarihleri arasında\, Adil Ocak\, Banu Balcı\, Müfit Yüksel\, Orhan Gürel\, Yusuf Toprak\, Zeki Serbest ve Zeynep San’ın resim sergisine ev sahipliği yapacaktır. Sergi\, Pazar günü hariç her gün 10:30 18:00 saatleri arasında görülebilir. \nYer: Bilkent Üniversitesi Kütüphanesi Sanat Galerisi \nTarih: 14 Aralık 2017 – 31 Ocak 2018 \nAktivite Sayfası: Sergiler ve Konserler
URL:https://library.bilkent.edu.tr/tr/etkinlikler/resim-sergisi-kar/
LOCATION:Sanat Galerisi\, A Blok -1. Kat\, Bilkent Üniversitesi Merkez Kampüs Kütüphane\, Ankara\, Türkiye
CATEGORIES:Sergiler
ATTACH;FMTTYPE=image/jpeg:https://library.bilkent.edu.tr/tr/wp-content/uploads/2017/12/painting.jpg
ORGANIZER;CN="Bilkent %C3%9Cniversitesi K%C3%BCt%C3%BCphanesi":MAILTO:library@bilkent.edu.tr
END:VEVENT
BEGIN:VEVENT
DTSTART;TZID=Europe/Istanbul:20180302T103000
DTEND;TZID=Europe/Istanbul:20180404T180000
DTSTAMP:20260421T173500
CREATED:20221018T055942Z
LAST-MODIFIED:20240416T122613Z
UID:19644-1519986600-1522864800@library.bilkent.edu.tr
SUMMARY:Sergi "Çizgilerle Türkiye"
DESCRIPTION:Bilkent Üniversitesi Kütüphanesi Sanat Galerisi\, 2 Mart – 4 Nisan 2018 tarihleri arasında\, Angela Burns’ün “Çizgilerle Türkiye” isimli üç boyutlu kağıt çalışmaları sergisine ev sahipliği yapacaktır. Sergi\, Pazar günü hariç her gün 10:30-18:00 saatleri arasında görülebilir.
URL:https://library.bilkent.edu.tr/tr/etkinlikler/sergi-cizgilerle-turkiye/
LOCATION:Sanat Galerisi\, A Blok -1. Kat\, Bilkent Üniversitesi Merkez Kampüs Kütüphane\, Ankara\, Türkiye
CATEGORIES:Sergiler
ATTACH;FMTTYPE=image/jpeg:https://library.bilkent.edu.tr/tr/wp-content/uploads/2018/03/angelaalacati-featured.jpg
ORGANIZER;CN="Bilkent %C3%9Cniversitesi K%C3%BCt%C3%BCphanesi":MAILTO:library@bilkent.edu.tr
END:VEVENT
BEGIN:VEVENT
DTSTART;TZID=Europe/Istanbul:20180328T123000
DTEND;TZID=Europe/Istanbul:20180328T130000
DTSTAMP:20260421T173500
CREATED:20221025T115722Z
LAST-MODIFIED:20240416T122545Z
UID:19857-1522240200-1522242000@library.bilkent.edu.tr
SUMMARY:54. Kütüphane Haftası - “Kitabını Al Gel\, Birlikte Okuyalım”
DESCRIPTION:
URL:https://library.bilkent.edu.tr/tr/etkinlikler/54-kutuphane-haftasi-kitabini-al-gel-birlikte-okuyalim/
LOCATION:Merkez Kampüs Kütüphane\, Bilkent Üniversitesi Merkez Kampüs Kütüphane\, Ankara\, Türkiye
CATEGORIES:Kütüphane Haftası Etkinlikleri
ATTACH;FMTTYPE=image/jpeg:https://library.bilkent.edu.tr/tr/wp-content/uploads/2018/03/library_week.jpg
ORGANIZER;CN="Bilkent %C3%9Cniversitesi K%C3%BCt%C3%BCphanesi":MAILTO:library@bilkent.edu.tr
END:VEVENT
BEGIN:VEVENT
DTSTART;TZID=Europe/Istanbul:20180329T123000
DTEND;TZID=Europe/Istanbul:20180329T133000
DTSTAMP:20260421T173500
CREATED:20221025T115825Z
LAST-MODIFIED:20240416T115139Z
UID:19859-1522326600-1522330200@library.bilkent.edu.tr
SUMMARY:54. Kütüphane Haftası - “16. Kütüphanelerini Kurdular!” Bilkent Üniversitesi Güneş Köyden Doğuyor Proje Ekibiyle Söyleşi
DESCRIPTION:
URL:https://library.bilkent.edu.tr/tr/etkinlikler/54-kutuphane-haftasi-16-kutuphanelerini-kurdular-bilkent-universitesi-gunes-koyden-doguyor-proje-ekibiyle-soylesi/
LOCATION:Sanat Galerisi\, A Blok -1. Kat\, Bilkent Üniversitesi Merkez Kampüs Kütüphane\, Ankara\, Türkiye
CATEGORIES:Kütüphane Haftası Etkinlikleri
ATTACH;FMTTYPE=image/jpeg:https://library.bilkent.edu.tr/tr/wp-content/uploads/2018/03/library_week.jpg
ORGANIZER;CN="Bilkent %C3%9Cniversitesi K%C3%BCt%C3%BCphanesi":MAILTO:library@bilkent.edu.tr
END:VEVENT
BEGIN:VEVENT
DTSTART;TZID=Europe/Istanbul:20180330T140000
DTEND;TZID=Europe/Istanbul:20180330T160000
DTSTAMP:20260421T173500
CREATED:20221025T115949Z
LAST-MODIFIED:20240416T115142Z
UID:19861-1522418400-1522425600@library.bilkent.edu.tr
SUMMARY:54. Kütüphane Haftası - “Kütüphane Haritasını Bul\, Ödülü Kazan”
DESCRIPTION:Bilkent Üniversitesi Kütüphanesi\, sizleri 54. Kütüphane Haftası etkinliklerine katılmaya davet ediyor. \nYarışma Hakkında \n\nReferans Salonu’na gel\, kütüphaneciyi bul.\nSoru için zarfını al.\nSoruyu yanıtla ve ilgili kitabı kütüphanede ara.\nKitaba git\, içindeki haritayı bul.\nHaritada işaretlenmiş yere git.\nTüm bunları hızlı yapabilirsen\, ödülü kazanma şansın artar.\n\nYarışma Kuralları \n\nYarışma Bilkent Üniversitesi öğrencilerine açıktır.\nYarışmaya katılmak için 28 Mart 2018\, saat 17:00’a kadar yarışma kayıt formu doldurulmalıdır.\nYarışma Kayıt Formu’nu dolduran ilk üç öğrenci yarışmaya katılmaya hak kazanacaktır.\nYarışmacılar\, e-posta ile bilgilendirilecektir.\nÖdül kazanan yarışmacı kütüphane sosyal medya hesaplarında duyurulacaktır.\nÖdül bilgisi: 100 TL Meteksan hediye çeki.
URL:https://library.bilkent.edu.tr/tr/etkinlikler/54-kutuphane-haftasi-kutuphane-haritasini-bul-odulu-kazan/
LOCATION:Merkez Kampüs Kütüphane\, Bilkent Üniversitesi Merkez Kampüs Kütüphane\, Ankara\, Türkiye
CATEGORIES:Kütüphane Haftası Etkinlikleri
ATTACH;FMTTYPE=image/jpeg:https://library.bilkent.edu.tr/tr/wp-content/uploads/2018/03/library_week.jpg
ORGANIZER;CN="Bilkent %C3%9Cniversitesi K%C3%BCt%C3%BCphanesi":MAILTO:library@bilkent.edu.tr
END:VEVENT
END:VCALENDAR