BEGIN:VCALENDAR
VERSION:2.0
PRODID:-//Bilkent Üniversitesi Kütüphanesi - ECPv6.15.20//NONSGML v1.0//EN
CALSCALE:GREGORIAN
METHOD:PUBLISH
X-ORIGINAL-URL:https://library.bilkent.edu.tr/tr
X-WR-CALDESC:Bilkent Üniversitesi Kütüphanesi için etkinlikler
REFRESH-INTERVAL;VALUE=DURATION:PT1H
X-Robots-Tag:noindex
X-PUBLISHED-TTL:PT1H
BEGIN:VTIMEZONE
TZID:Europe/Istanbul
BEGIN:DAYLIGHT
TZOFFSETFROM:+0200
TZOFFSETTO:+0300
TZNAME:EEST
DTSTART:20160327T010000
END:DAYLIGHT
BEGIN:STANDARD
TZOFFSETFROM:+0300
TZOFFSETTO:+0300
TZNAME:+03
DTSTART:20160906T210000
END:STANDARD
END:VTIMEZONE
BEGIN:VEVENT
DTSTART;TZID=Europe/Istanbul:20171122T080000
DTEND;TZID=Europe/Istanbul:20171206T170000
DTSTAMP:20260421T225409
CREATED:20221018T061807Z
LAST-MODIFIED:20240416T122843Z
UID:19650-1511337600-1512579600@library.bilkent.edu.tr
SUMMARY:Sergi “Ars Libris: Artists’ Books as Ergodic Texts”
DESCRIPTION:“Sanatçı Kitapları” terimi\, 1973 yılında Diane Vanderlip tarafından\, Moore Sanat Üniversitesi küratörlüğünde sergilenen eserleri tanımlamak için kullanılmıştır. Fakat kavram olarak çok daha eski tarihlere dayandığı tartışılmaktadır. Sanatçı kitapları genel olarak gerçek kitaplar kullanılarak hazırlanan eserlerdir. Edebi olanlara kıyasla\, fiziksel nitelikleri ön planda vurgulanmakta\, okuyucularla alışılmadık bir iletişim kurmayı hedeflemekte\, geleneksel kitaplarla farklı bir etkileşim içine girmektedir. Bu tür etkileşimlerin kendine özgü zoluğu \, ergodic metinler olarak sanatçı kitaplarının doğasında vardır. Bu kitaplar\,  karmaşıklıklarına rağmen belki de metinsel ve görsel olarak\, varsayılan parametrelere itiraz ediyorlar ve  bunu yaparken de sanat\, edebiyat ve okuyuculuğa ilişkin önemli sorular ortaya atıyor ve yanıtlıyorlar. \n“Ars Libris: Artists’ Books as Ergodic Texts” sergisi\, Bilkent Üniversitesi Kültürler\, Medeniyetler ve Düşünceler Programı\, İletişim ve Tasarım Bölümü\, Güzel Sanatlar ve Mimarlık Fakültesi ve Kütüphane’nin işbirliği ile hazırlanan bir çalışmadır. Yedi farklı ülkeden yirmidört sanatçının eserlerini içermektedir. \nTarih: 22 Kasım- 6 Aralık 2017 \nYer: Bilkent Üniversitesi Kütüphanesi\,  Sanat Galerisi \nAçılış Resepsiyonu: 22 Kasım 2017 Çarşamba günü\, saat: 17:30
URL:https://library.bilkent.edu.tr/tr/etkinlikler/sergi-ars-libris-artists-books-as-ergodic-texts/
LOCATION:Sanat Galerisi\, A Blok -1. Kat\, Bilkent Üniversitesi Merkez Kampüs Kütüphane\, Ankara\, Türkiye
CATEGORIES:Sergiler
ATTACH;FMTTYPE=image/jpeg:https://library.bilkent.edu.tr/tr/wp-content/uploads/2017/11/art_libris.jpg
ORGANIZER;CN="Bilkent %C3%9Cniversitesi K%C3%BCt%C3%BCphanesi":MAILTO:library@bilkent.edu.tr
END:VEVENT
BEGIN:VEVENT
DTSTART;TZID=Europe/Istanbul:20171214T103000
DTEND;TZID=Europe/Istanbul:20181231T180000
DTSTAMP:20260421T225409
CREATED:20221018T061225Z
LAST-MODIFIED:20240416T122727Z
UID:19648-1513247400-1546279200@library.bilkent.edu.tr
SUMMARY:Resim Sergisi "KAR"
DESCRIPTION:2018 tarihleri arasında\, Adil Ocak\, Banu Balcı\, Müfit Yüksel\, Orhan Gürel\, Yusuf Toprak\, Zeki Serbest ve Zeynep San’ın resim sergisine ev sahipliği yapacaktır. Sergi\, Pazar günü hariç her gün 10:30 18:00 saatleri arasında görülebilir. \nYer: Bilkent Üniversitesi Kütüphanesi Sanat Galerisi \nTarih: 14 Aralık 2017 – 31 Ocak 2018 \nAktivite Sayfası: Sergiler ve Konserler
URL:https://library.bilkent.edu.tr/tr/etkinlikler/resim-sergisi-kar/
LOCATION:Sanat Galerisi\, A Blok -1. Kat\, Bilkent Üniversitesi Merkez Kampüs Kütüphane\, Ankara\, Türkiye
CATEGORIES:Sergiler
ATTACH;FMTTYPE=image/jpeg:https://library.bilkent.edu.tr/tr/wp-content/uploads/2017/12/painting.jpg
ORGANIZER;CN="Bilkent %C3%9Cniversitesi K%C3%BCt%C3%BCphanesi":MAILTO:library@bilkent.edu.tr
END:VEVENT
END:VCALENDAR