BEGIN:VCALENDAR
VERSION:2.0
PRODID:-//Bilkent Üniversitesi Kütüphanesi - ECPv6.15.20//NONSGML v1.0//EN
CALSCALE:GREGORIAN
METHOD:PUBLISH
X-ORIGINAL-URL:https://library.bilkent.edu.tr/tr
X-WR-CALDESC:Bilkent Üniversitesi Kütüphanesi için etkinlikler
REFRESH-INTERVAL;VALUE=DURATION:PT1H
X-Robots-Tag:noindex
X-PUBLISHED-TTL:PT1H
BEGIN:VTIMEZONE
TZID:Europe/Istanbul
BEGIN:DAYLIGHT
TZOFFSETFROM:+0200
TZOFFSETTO:+0300
TZNAME:EEST
DTSTART:20160327T010000
END:DAYLIGHT
BEGIN:STANDARD
TZOFFSETFROM:+0300
TZOFFSETTO:+0300
TZNAME:+03
DTSTART:20160906T210000
END:STANDARD
END:VTIMEZONE
BEGIN:VEVENT
DTSTART;TZID=Europe/Istanbul:20171018T103000
DTEND;TZID=Europe/Istanbul:20171114T180000
DTSTAMP:20260422T021526
CREATED:20221018T061935Z
LAST-MODIFIED:20240416T124334Z
UID:19652-1508322600-1510682400@library.bilkent.edu.tr
SUMMARY:Sergi “Color in Water on Paper”
DESCRIPTION:Bilkent Üniversitesi Kütüphanesi Sanat Galerisi\, 18 Ekim – 14 Kasım 2017 tarihleri arasında\, Sait Günel\, Ferzan Çuhadaroğlu\, Vahap Demirbaş\, Hayati Aslantaş\, Müfit Yüksel\, Mineke Reinders\, Gülay Erdoğan\, Svetlana İnaç\, Orhan Gürel ve Melike Taşçıoğlu’nun resim sergisine ev sahipliği yapacaktır. Sergi\, Pazar günü hariç her gün 10:30-18:00 saatleri arasında görülebilir.
URL:https://library.bilkent.edu.tr/tr/etkinlikler/sergi-color-in-water-on-paper/
LOCATION:Sanat Galerisi\, A Blok -1. Kat\, Bilkent Üniversitesi Merkez Kampüs Kütüphane\, Ankara\, Türkiye
CATEGORIES:Sergiler
ATTACH;FMTTYPE=image/jpeg:https://library.bilkent.edu.tr/tr/wp-content/uploads/2019/11/saitGunel.jpg
ORGANIZER;CN="Bilkent %C3%9Cniversitesi K%C3%BCt%C3%BCphanesi":MAILTO:library@bilkent.edu.tr
END:VEVENT
END:VCALENDAR