BEGIN:VCALENDAR
VERSION:2.0
PRODID:-//Bilkent Üniversitesi Kütüphanesi - ECPv6.15.20//NONSGML v1.0//EN
CALSCALE:GREGORIAN
METHOD:PUBLISH
X-WR-CALNAME:Bilkent Üniversitesi Kütüphanesi
X-ORIGINAL-URL:https://library.bilkent.edu.tr/tr
X-WR-CALDESC:Bilkent Üniversitesi Kütüphanesi için etkinlikler
REFRESH-INTERVAL;VALUE=DURATION:PT1H
X-Robots-Tag:noindex
X-PUBLISHED-TTL:PT1H
BEGIN:VTIMEZONE
TZID:Europe/Istanbul
BEGIN:DAYLIGHT
TZOFFSETFROM:+0200
TZOFFSETTO:+0300
TZNAME:EEST
DTSTART:20150329T010000
END:DAYLIGHT
BEGIN:STANDARD
TZOFFSETFROM:+0300
TZOFFSETTO:+0200
TZNAME:EET
DTSTART:20151108T010000
END:STANDARD
BEGIN:DAYLIGHT
TZOFFSETFROM:+0200
TZOFFSETTO:+0300
TZNAME:EEST
DTSTART:20160327T010000
END:DAYLIGHT
BEGIN:STANDARD
TZOFFSETFROM:+0300
TZOFFSETTO:+0300
TZNAME:+03
DTSTART:20160906T210000
END:STANDARD
END:VTIMEZONE
BEGIN:VEVENT
DTSTART;TZID=Europe/Istanbul:20161007T103000
DTEND;TZID=Europe/Istanbul:20161108T180000
DTSTAMP:20260422T210716
CREATED:20221018T062635Z
LAST-MODIFIED:20240416T125025Z
UID:19662-1475836200-1478628000@library.bilkent.edu.tr
SUMMARY:Resim Sergisi: Fevzi Karakoç
DESCRIPTION:Bilkent Üniversitesi Kütüphanesi Sanat Galerisi\, 7 Ekim-8 Kasım 2016 tarihleri arasında\, Fevzi Karakoç’un resim sergisine ev sahipliği yapacaktır. Sergi Pazar günü hariç her gün 10:30-18:00 saatleri arasında görülebilir.
URL:https://library.bilkent.edu.tr/tr/etkinlikler/resim-sergisi-fevzi-karakoc/
LOCATION:Sanat Galerisi\, A Blok -1. Kat\, Bilkent Üniversitesi Merkez Kampüs Kütüphane\, Ankara\, Türkiye
CATEGORIES:Sergiler
ATTACH;FMTTYPE=image/jpeg:https://library.bilkent.edu.tr/tr/wp-content/uploads/2019/11/fevziKarakoc.jpg
ORGANIZER;CN="Bilkent %C3%9Cniversitesi K%C3%BCt%C3%BCphanesi":MAILTO:library@bilkent.edu.tr
END:VEVENT
BEGIN:VEVENT
DTSTART;TZID=Europe/Istanbul:20161110T103000
DTEND;TZID=Europe/Istanbul:20161213T180000
DTSTAMP:20260422T210716
CREATED:20221018T062454Z
LAST-MODIFIED:20240416T125009Z
UID:19660-1478773800-1481652000@library.bilkent.edu.tr
SUMMARY:Resim Sergisi: Birsen Salahi
DESCRIPTION:Bilkent Üniversitesi Kütüphane Sanat Galerisi\, 10 Kasım-13 Aralık 2016 tarihleri arasında\, Birsen Salahi’nin resim sergisine ev sahipliği yapacaktır. Sergi Pazar günü hariç her gün 10:30-18:00 saatleri arasında görülebilir.
URL:https://library.bilkent.edu.tr/tr/etkinlikler/resim-sergisi-birsen-salahi/
LOCATION:Sanat Galerisi\, A Blok -1. Kat\, Bilkent Üniversitesi Merkez Kampüs Kütüphane\, Ankara\, Türkiye
CATEGORIES:Sergiler
ATTACH;FMTTYPE=image/jpeg:https://library.bilkent.edu.tr/tr/wp-content/uploads/2019/11/birsenSalahi.jpg
ORGANIZER;CN="Bilkent %C3%9Cniversitesi K%C3%BCt%C3%BCphanesi":MAILTO:library@bilkent.edu.tr
END:VEVENT
END:VCALENDAR